BEGIN:VCALENDAR
VERSION:2.0
PRODID:-//Community Impact Network - ECPv6.15.11//NONSGML v1.0//EN
CALSCALE:GREGORIAN
METHOD:PUBLISH
X-WR-CALNAME:Community Impact Network
X-ORIGINAL-URL:https://stlci.net
X-WR-CALDESC:Events for Community Impact Network
REFRESH-INTERVAL;VALUE=DURATION:PT1H
X-Robots-Tag:noindex
X-PUBLISHED-TTL:PT1H
BEGIN:VTIMEZONE
TZID:America/Chicago
BEGIN:DAYLIGHT
TZOFFSETFROM:-0600
TZOFFSETTO:-0500
TZNAME:CDT
DTSTART:20250309T080000
END:DAYLIGHT
BEGIN:STANDARD
TZOFFSETFROM:-0500
TZOFFSETTO:-0600
TZNAME:CST
DTSTART:20251102T070000
END:STANDARD
BEGIN:DAYLIGHT
TZOFFSETFROM:-0600
TZOFFSETTO:-0500
TZNAME:CDT
DTSTART:20260308T080000
END:DAYLIGHT
BEGIN:STANDARD
TZOFFSETFROM:-0500
TZOFFSETTO:-0600
TZNAME:CST
DTSTART:20261101T070000
END:STANDARD
BEGIN:DAYLIGHT
TZOFFSETFROM:-0600
TZOFFSETTO:-0500
TZNAME:CDT
DTSTART:20270314T080000
END:DAYLIGHT
BEGIN:STANDARD
TZOFFSETFROM:-0500
TZOFFSETTO:-0600
TZNAME:CST
DTSTART:20271107T070000
END:STANDARD
END:VTIMEZONE
BEGIN:VEVENT
DTSTART;TZID=America/Chicago:20260418T090000
DTEND;TZID=America/Chicago:20260418T120000
DTSTAMP:20260422T032242
CREATED:20260414T201819Z
LAST-MODIFIED:20260414T201819Z
UID:10002438-1776502800-1776513600@stlci.net
SUMMARY:Observations of Child Behavior: Strategies in the Classroom
DESCRIPTION:This 3-clock hour professional development workshop will equip early childhood educators with the tools to observe children in their care and ways to use their observations to guide their teaching. Educators will receive $50 gift cards for participating. Space is limited. Be sure to register!
URL:https://stlci.net/event/observations-of-child-behavior-strategies-in-the-classroom/
LOCATION:O’Fallon Park Rec Complex\, 4343 W. Florissant\, St. Louis\, MO\, 63115\, United States
CATEGORIES:Network Member Event,Programs Achieving Quality
ATTACH;FMTTYPE=image/png:https://stlci.net/wp-content/uploads/2026/04/IMG_0599-scaled.png
ORGANIZER;CN="STAR for Early Childhood Educators":MAILTO:info@star4eceinc.com
END:VEVENT
END:VCALENDAR