BEGIN:VCALENDAR
VERSION:2.0
PRODID:-//Community Impact Network - ECPv6.15.11//NONSGML v1.0//EN
CALSCALE:GREGORIAN
METHOD:PUBLISH
X-WR-CALNAME:Community Impact Network
X-ORIGINAL-URL:https://stlci.net
X-WR-CALDESC:Events for Community Impact Network
REFRESH-INTERVAL;VALUE=DURATION:PT1H
X-Robots-Tag:noindex
X-PUBLISHED-TTL:PT1H
BEGIN:VTIMEZONE
TZID:America/Chicago
BEGIN:DAYLIGHT
TZOFFSETFROM:-0600
TZOFFSETTO:-0500
TZNAME:CDT
DTSTART:20240310T080000
END:DAYLIGHT
BEGIN:STANDARD
TZOFFSETFROM:-0500
TZOFFSETTO:-0600
TZNAME:CST
DTSTART:20241103T070000
END:STANDARD
BEGIN:DAYLIGHT
TZOFFSETFROM:-0600
TZOFFSETTO:-0500
TZNAME:CDT
DTSTART:20250309T080000
END:DAYLIGHT
BEGIN:STANDARD
TZOFFSETFROM:-0500
TZOFFSETTO:-0600
TZNAME:CST
DTSTART:20251102T070000
END:STANDARD
BEGIN:DAYLIGHT
TZOFFSETFROM:-0600
TZOFFSETTO:-0500
TZNAME:CDT
DTSTART:20260308T080000
END:DAYLIGHT
BEGIN:STANDARD
TZOFFSETFROM:-0500
TZOFFSETTO:-0600
TZNAME:CST
DTSTART:20261101T070000
END:STANDARD
BEGIN:DAYLIGHT
TZOFFSETFROM:-0600
TZOFFSETTO:-0500
TZNAME:CDT
DTSTART:20270314T080000
END:DAYLIGHT
BEGIN:STANDARD
TZOFFSETFROM:-0500
TZOFFSETTO:-0600
TZNAME:CST
DTSTART:20271107T070000
END:STANDARD
END:VTIMEZONE
BEGIN:VEVENT
DTSTART;TZID=America/Chicago:20260327T130000
DTEND;TZID=America/Chicago:20260327T170000
DTSTAMP:20260422T102931
CREATED:20260311T205556Z
LAST-MODIFIED:20260311T211319Z
UID:10002430-1774616400-1774630800@stlci.net
SUMMARY:Spire Community Outreach Day
DESCRIPTION:The Community Impact Network\, in partnership with Spire and several regional service providers\, is hosting a Community Outreach Day to connect residents in the 24:1 with resources to help ease the burden of utility and household expenses. \nDuring this event\, residents can receive one-on-one support applying for utility assistance programs\, including rental and energy support for those who qualify. Representatives from Spire and partner organizations will be available to help residents understand available programs and complete applications. \nServices Available \n\nUtility assistance application support\nVouchers for those who qualify for energy support programs\nGuidance on available community assistance programs\nHelp completing applications with trained representatives\n\nSpecialists from Spire\, Ameren\, CAASTLC\, MSD\, the St. Louis Water Division\, and the Urban League will be present to help connect residents with programs that best meet their need.
URL:https://stlci.net/event/spire-community-outreach-day/
LOCATION:Community Impact Network\, 1623 Kienlen Ave.\, St. Louis\, 63133\, United States
CATEGORIES:Community Event,Network Event
ATTACH;FMTTYPE=image/jpeg:https://stlci.net/wp-content/uploads/2024/05/CIN_Website_Social_Image-1.jpg
END:VEVENT
BEGIN:VEVENT
DTSTART;TZID=America/Chicago:20260320T150000
DTEND;TZID=America/Chicago:20260320T170000
DTSTAMP:20260422T102931
CREATED:20251229T194424Z
LAST-MODIFIED:20260311T211449Z
UID:10002281-1774018800-1774026000@stlci.net
SUMMARY:Wellness In Bloom
DESCRIPTION:Join us for an intentional afternoon of wellness and renewal. Sip handcrafted coffee from Latte Lounge\, design your own bouquet\, and participate in guided mindfulness sessions curated to restore your energy. \nCome as you are. Leave in bloom. \n  \nThis experience is reserved for the caregiving professionals who tirelessly support our community. We see you. We appreciate you. And we are honored to celebrate the care you give by pouring back into you. \n  \nQuick Note: This event is not replacing our annual Wellness in the Field event held in September; this is an addition to show you our appreciation and encourage year-round self-care. \nFor more information\, please contact our Senior Manager of Community Impact\, Gabriela Ochoa.
URL:https://stlci.net/event/caregiver-wellness-event/
LOCATION:Community Impact Network\, 1623 Kienlen Ave.\, St. Louis\, 63133\, United States
CATEGORIES:Network Event,Network Member Event
ATTACH;FMTTYPE=image/jpeg:https://stlci.net/wp-content/uploads/2024/05/CIN_Website_Social_Image-1.jpg
END:VEVENT
BEGIN:VEVENT
DTSTART;TZID=America/Chicago:20250115T180000
DTEND;TZID=America/Chicago:20250115T190000
DTSTAMP:20260422T102931
CREATED:20250108T205939Z
LAST-MODIFIED:20250108T205939Z
UID:10000427-1736964000-1736967600@stlci.net
SUMMARY:The Legacy Center Presents: Autism Support Now
DESCRIPTION:The Legacy Center is thrilled to invite educators\, parents and community members from all backgrounds to join them online for this transformative series of workshops. Starting on Wednesday\, January 15\, 2025\, at 6 p.m. CST\, these engaging sessions are designed to empower our community with the tools\, strategies\, and inspiration needed to thrive and make a lasting impact in our community. \nThe workshop series will feature expert facilitators\, interactive discussions\, and practical takeaways\, all delivered in a virtual format to accommodate your busy schedule. Whether you’re looking to enhance your teaching methods\, build leadership skills\, or simply connect with a supportive community of like-minded professionals\, this series is for you. \nKey highlights include: \n\nDynamic workshops tailored to today’s challenges and opportunities.\nAccess to a network of professionals passionate about growth and excellence.\nPractical strategies and insights you can immediately apply in your work.\n\nDon’t miss this opportunity to invest in your professional development and personal growth. Mark your calendar and join TLC for a series of sessions that will inspire\, empower\, and equip you for success in 2025 and beyond!
URL:https://stlci.net/event/the-legacy-center-presents-autism-support-now/
LOCATION:Online
CATEGORIES:Network Event,Network Member Event
ATTACH;FMTTYPE=image/png:https://stlci.net/wp-content/uploads/2025/01/Screenshot-2025-01-08-145413.png
END:VEVENT
END:VCALENDAR