BEGIN:VCALENDAR
VERSION:2.0
PRODID:-//Community Impact Network - ECPv6.15.20//NONSGML v1.0//EN
CALSCALE:GREGORIAN
METHOD:PUBLISH
X-WR-CALNAME:Community Impact Network
X-ORIGINAL-URL:https://stlci.net
X-WR-CALDESC:Events for Community Impact Network
REFRESH-INTERVAL;VALUE=DURATION:PT1H
X-Robots-Tag:noindex
X-PUBLISHED-TTL:PT1H
BEGIN:VTIMEZONE
TZID:America/Chicago
BEGIN:DAYLIGHT
TZOFFSETFROM:-0600
TZOFFSETTO:-0500
TZNAME:CDT
DTSTART:20250309T080000
END:DAYLIGHT
BEGIN:STANDARD
TZOFFSETFROM:-0500
TZOFFSETTO:-0600
TZNAME:CST
DTSTART:20251102T070000
END:STANDARD
BEGIN:DAYLIGHT
TZOFFSETFROM:-0600
TZOFFSETTO:-0500
TZNAME:CDT
DTSTART:20260308T080000
END:DAYLIGHT
BEGIN:STANDARD
TZOFFSETFROM:-0500
TZOFFSETTO:-0600
TZNAME:CST
DTSTART:20261101T070000
END:STANDARD
BEGIN:DAYLIGHT
TZOFFSETFROM:-0600
TZOFFSETTO:-0500
TZNAME:CDT
DTSTART:20270314T080000
END:DAYLIGHT
BEGIN:STANDARD
TZOFFSETFROM:-0500
TZOFFSETTO:-0600
TZNAME:CST
DTSTART:20271107T070000
END:STANDARD
END:VTIMEZONE
BEGIN:VEVENT
DTSTART;VALUE=DATE:20260207
DTEND;VALUE=DATE:20260208
DTSTAMP:20260422T115838
CREATED:20260205T223607Z
LAST-MODIFIED:20260205T223607Z
UID:10002418-1770422400-1770508799@stlci.net
SUMMARY:Building Bridges and Breaking Down Barriers with  Families
DESCRIPTION:Relationships are at the core of all we do in early childhood. Build productive and connected relationships with families through: Family communication\, Understanding Values\, Deeping involvement\, and Whole family approach. \n3-Clock Hour PD resented by Shannon Carr\, MAT\, IMH-E® and STAR Coaching
URL:https://stlci.net/event/building-bridges-and-breaking-down-barriers-with-families/
LOCATION:O’Fallon YMCA\, 4343 West Florissant\, Saint Louis\, MO\, 63115
CATEGORIES:Network Member Event,Programs Achieving Quality
ORGANIZER;CN="STAR for Early Childhood Educators":MAILTO:info@star4eceinc.com
END:VEVENT
BEGIN:VEVENT
DTSTART;TZID=America/Chicago:20260221T090000
DTEND;TZID=America/Chicago:20260221T120000
DTSTAMP:20260422T115838
CREATED:20260220T205956Z
LAST-MODIFIED:20260220T205956Z
UID:10002423-1771664400-1771675200@stlci.net
SUMMARY:Celebrating Diversity of Culture
DESCRIPTION:The CDA aligned workshop empowers educators to: create inclusive environments through music and literature\, support identity development\, and partner with diverse families\, and address bias.
URL:https://stlci.net/event/celebrating-diversity-of-culture/
LOCATION:O’Fallon YMCA\, 4343 West Florissant\, Saint Louis\, MO\, 63115
CATEGORIES:Network Member Event,Programs Achieving Quality
ATTACH;FMTTYPE=image/png:https://stlci.net/wp-content/uploads/2026/02/Celebrating-diversity-of-culture_3-clock-hours.png
ORGANIZER;CN="STAR for Early Childhood Educators":MAILTO:info@star4eceinc.com
END:VEVENT
BEGIN:VEVENT
DTSTART;TZID=America/Chicago:20260228T093000
DTEND;TZID=America/Chicago:20260228T153000
DTSTAMP:20260422T115838
CREATED:20260220T205732Z
LAST-MODIFIED:20260220T205732Z
UID:10002424-1772271000-1772292600@stlci.net
SUMMARY:FREE CPR/First Aid Class
DESCRIPTION:American Heart Association 2 year CPR/First Aid Certification
URL:https://stlci.net/event/free-cpr-first-aid-class/
LOCATION:Community Impact Network\, 1623 Kienlen Ave.\, St. Louis\, 63133\, United States
CATEGORIES:Network Member Event,Programs Achieving Quality
ATTACH;FMTTYPE=image/png:https://stlci.net/wp-content/uploads/2026/02/star-coaching-cpr-flyer-85-11-1-scaled.png
ORGANIZER;CN="STAR for Early Childhood Educators":MAILTO:info@star4eceinc.com
END:VEVENT
END:VCALENDAR