BEGIN:VCALENDAR
VERSION:2.0
PRODID:-//Community Impact Network - ECPv6.15.11//NONSGML v1.0//EN
CALSCALE:GREGORIAN
METHOD:PUBLISH
X-WR-CALNAME:Community Impact Network
X-ORIGINAL-URL:https://stlci.net
X-WR-CALDESC:Events for Community Impact Network
REFRESH-INTERVAL;VALUE=DURATION:PT1H
X-Robots-Tag:noindex
X-PUBLISHED-TTL:PT1H
BEGIN:VTIMEZONE
TZID:America/Chicago
BEGIN:DAYLIGHT
TZOFFSETFROM:-0600
TZOFFSETTO:-0500
TZNAME:CDT
DTSTART:20250309T080000
END:DAYLIGHT
BEGIN:STANDARD
TZOFFSETFROM:-0500
TZOFFSETTO:-0600
TZNAME:CST
DTSTART:20251102T070000
END:STANDARD
BEGIN:DAYLIGHT
TZOFFSETFROM:-0600
TZOFFSETTO:-0500
TZNAME:CDT
DTSTART:20260308T080000
END:DAYLIGHT
BEGIN:STANDARD
TZOFFSETFROM:-0500
TZOFFSETTO:-0600
TZNAME:CST
DTSTART:20261101T070000
END:STANDARD
BEGIN:DAYLIGHT
TZOFFSETFROM:-0600
TZOFFSETTO:-0500
TZNAME:CDT
DTSTART:20270314T080000
END:DAYLIGHT
BEGIN:STANDARD
TZOFFSETFROM:-0500
TZOFFSETTO:-0600
TZNAME:CST
DTSTART:20271107T070000
END:STANDARD
END:VTIMEZONE
BEGIN:VEVENT
DTSTART;TZID=America/Chicago:20260321T090000
DTEND;TZID=America/Chicago:20260321T120000
DTSTAMP:20260422T102136
CREATED:20260320T193337Z
LAST-MODIFIED:20260320T193337Z
UID:10002432-1774083600-1774094400@stlci.net
SUMMARY:Establishing a Print Rich Environment
DESCRIPTION:This 3-clock hour PD training will engage ECEs in discussion about:\nWhat a infant\, toddler\, & Pre-k print rich looks like; How to use labels\, signs\, &\ncharts. Low cost materials for\nclassrooms.
URL:https://stlci.net/event/establishing-a-print-rich-environment/
LOCATION:O’Fallon YMCA\, 4343 West Florissant\, Saint Louis\, MO\, 63115
CATEGORIES:Network Meeting/Training,Programs Achieving Quality
ORGANIZER;CN="STAR":MAILTO:info@star4eceinc.com
END:VEVENT
BEGIN:VEVENT
DTSTART;TZID=America/Chicago:20260328T080000
DTEND;TZID=America/Chicago:20260328T170000
DTSTAMP:20260422T102136
CREATED:20260320T193257Z
LAST-MODIFIED:20260320T193257Z
UID:10002428-1774684800-1774717200@stlci.net
SUMMARY:First Aid & CPR Training
DESCRIPTION:First Aid & CPR training with AHA BLS Instructor Sharon Beatty
URL:https://stlci.net/event/first-aid-cpr-training/2026-03-28/1/
LOCATION:Community Impact Network\, 1623 Kienlen Ave.\, St. Louis\, 63133\, United States
CATEGORIES:Network Member Event,Programs Achieving Quality
ATTACH;FMTTYPE=image/png:https://stlci.net/wp-content/uploads/2026/03/Star-cpr-flyer-3-dates-scaled.png
ORGANIZER;CN="STAR":MAILTO:info@star4eceinc.com
END:VEVENT
BEGIN:VEVENT
DTSTART;TZID=America/Chicago:20260328T093000
DTEND;TZID=America/Chicago:20260328T153000
DTSTAMP:20260422T102136
CREATED:20260320T193257Z
LAST-MODIFIED:20260320T193257Z
UID:10002429-1774690200-1774711800@stlci.net
SUMMARY:First Aid & CPR Training
DESCRIPTION:First Aid & CPR training with AHA BLS Instructor Sharon Beatty
URL:https://stlci.net/event/first-aid-cpr-training/2026-03-28/2/
LOCATION:Community Impact Network\, 1623 Kienlen Ave.\, St. Louis\, 63133\, United States
CATEGORIES:Network Member Event,Programs Achieving Quality
ATTACH;FMTTYPE=image/png:https://stlci.net/wp-content/uploads/2026/03/Star-cpr-flyer-3-dates-scaled.png
ORGANIZER;CN="STAR":MAILTO:info@star4eceinc.com
END:VEVENT
END:VCALENDAR