BEGIN:VCALENDAR
VERSION:2.0
PRODID:-//Community Impact Network - ECPv6.15.20//NONSGML v1.0//EN
CALSCALE:GREGORIAN
METHOD:PUBLISH
X-WR-CALNAME:Community Impact Network
X-ORIGINAL-URL:https://stlci.net
X-WR-CALDESC:Events for Community Impact Network
REFRESH-INTERVAL;VALUE=DURATION:PT1H
X-Robots-Tag:noindex
X-PUBLISHED-TTL:PT1H
BEGIN:VTIMEZONE
TZID:America/Chicago
BEGIN:DAYLIGHT
TZOFFSETFROM:-0600
TZOFFSETTO:-0500
TZNAME:CDT
DTSTART:20250309T080000
END:DAYLIGHT
BEGIN:STANDARD
TZOFFSETFROM:-0500
TZOFFSETTO:-0600
TZNAME:CST
DTSTART:20251102T070000
END:STANDARD
BEGIN:DAYLIGHT
TZOFFSETFROM:-0600
TZOFFSETTO:-0500
TZNAME:CDT
DTSTART:20260308T080000
END:DAYLIGHT
BEGIN:STANDARD
TZOFFSETFROM:-0500
TZOFFSETTO:-0600
TZNAME:CST
DTSTART:20261101T070000
END:STANDARD
BEGIN:DAYLIGHT
TZOFFSETFROM:-0600
TZOFFSETTO:-0500
TZNAME:CDT
DTSTART:20270314T080000
END:DAYLIGHT
BEGIN:STANDARD
TZOFFSETFROM:-0500
TZOFFSETTO:-0600
TZNAME:CST
DTSTART:20271107T070000
END:STANDARD
END:VTIMEZONE
BEGIN:VEVENT
DTSTART;VALUE=DATE:20260207
DTEND;VALUE=DATE:20260208
DTSTAMP:20260422T132848
CREATED:20260205T223607Z
LAST-MODIFIED:20260205T223607Z
UID:10002418-1770422400-1770508799@stlci.net
SUMMARY:Building Bridges and Breaking Down Barriers with  Families
DESCRIPTION:Relationships are at the core of all we do in early childhood. Build productive and connected relationships with families through: Family communication\, Understanding Values\, Deeping involvement\, and Whole family approach. \n3-Clock Hour PD resented by Shannon Carr\, MAT\, IMH-E® and STAR Coaching
URL:https://stlci.net/event/building-bridges-and-breaking-down-barriers-with-families/
LOCATION:O’Fallon YMCA\, 4343 West Florissant\, Saint Louis\, MO\, 63115
CATEGORIES:Network Member Event,Programs Achieving Quality
ORGANIZER;CN="STAR for Early Childhood Educators":MAILTO:info@star4eceinc.com
END:VEVENT
END:VCALENDAR